BEGIN:VCALENDAR
VERSION:2.0
PRODID:-//REGOHVA - ECPv6.15.20//NONSGML v1.0//EN
CALSCALE:GREGORIAN
METHOD:PUBLISH
X-WR-CALNAME:REGOHVA
X-ORIGINAL-URL:https://regohva.com/en/
X-WR-CALDESC:Events for REGOHVA
REFRESH-INTERVAL;VALUE=DURATION:PT1H
X-Robots-Tag:noindex
X-PUBLISHED-TTL:PT1H
BEGIN:VTIMEZONE
TZID:America/Toronto
BEGIN:DAYLIGHT
TZOFFSETFROM:-0500
TZOFFSETTO:-0400
TZNAME:EDT
DTSTART:20200308T070000
END:DAYLIGHT
BEGIN:STANDARD
TZOFFSETFROM:-0400
TZOFFSETTO:-0500
TZNAME:EST
DTSTART:20201101T060000
END:STANDARD
BEGIN:DAYLIGHT
TZOFFSETFROM:-0500
TZOFFSETTO:-0400
TZNAME:EDT
DTSTART:20210314T070000
END:DAYLIGHT
BEGIN:STANDARD
TZOFFSETFROM:-0400
TZOFFSETTO:-0500
TZNAME:EST
DTSTART:20211107T060000
END:STANDARD
BEGIN:DAYLIGHT
TZOFFSETFROM:-0500
TZOFFSETTO:-0400
TZNAME:EDT
DTSTART:20220313T070000
END:DAYLIGHT
BEGIN:STANDARD
TZOFFSETFROM:-0400
TZOFFSETTO:-0500
TZNAME:EST
DTSTART:20221106T060000
END:STANDARD
BEGIN:DAYLIGHT
TZOFFSETFROM:-0500
TZOFFSETTO:-0400
TZNAME:EDT
DTSTART:20230312T070000
END:DAYLIGHT
BEGIN:STANDARD
TZOFFSETFROM:-0400
TZOFFSETTO:-0500
TZNAME:EST
DTSTART:20231105T060000
END:STANDARD
BEGIN:DAYLIGHT
TZOFFSETFROM:-0500
TZOFFSETTO:-0400
TZNAME:EDT
DTSTART:20240310T070000
END:DAYLIGHT
BEGIN:STANDARD
TZOFFSETFROM:-0400
TZOFFSETTO:-0500
TZNAME:EST
DTSTART:20241103T060000
END:STANDARD
BEGIN:DAYLIGHT
TZOFFSETFROM:-0500
TZOFFSETTO:-0400
TZNAME:EDT
DTSTART:20250309T070000
END:DAYLIGHT
BEGIN:STANDARD
TZOFFSETFROM:-0400
TZOFFSETTO:-0500
TZNAME:EST
DTSTART:20251102T060000
END:STANDARD
BEGIN:DAYLIGHT
TZOFFSETFROM:-0500
TZOFFSETTO:-0400
TZNAME:EDT
DTSTART:20260308T070000
END:DAYLIGHT
BEGIN:STANDARD
TZOFFSETFROM:-0400
TZOFFSETTO:-0500
TZNAME:EST
DTSTART:20261101T060000
END:STANDARD
END:VTIMEZONE
BEGIN:VTIMEZONE
TZID:UTC
BEGIN:STANDARD
TZOFFSETFROM:+0000
TZOFFSETTO:+0000
TZNAME:UTC
DTSTART:20200101T000000
END:STANDARD
END:VTIMEZONE
BEGIN:VEVENT
DTSTART;TZID=America/Toronto:20250627T080000
DTEND;TZID=America/Toronto:20250627T170000
DTSTAMP:20260421T093439
CREATED:20250305T045327Z
LAST-MODIFIED:20250327T033013Z
UID:4157-1751011200-1751043600@regohva.com
SUMMARY:Celebrating Canadian multiculturalism
DESCRIPTION:Celebrating Canadian multiculturalismon  June 27\, 2025
URL:https://regohva.com/en/event/celebrating-canadian-multiculturalism/
ATTACH;FMTTYPE=image/jpeg:https://regohva.com/wp-content/uploads/2021/08/a-propos-foto1.jpeg
END:VEVENT
BEGIN:VEVENT
DTSTART;TZID=America/Toronto:20250517T180000
DTEND;TZID=America/Toronto:20250517T220000
DTSTAMP:20260421T093439
CREATED:20250511T003530Z
LAST-MODIFIED:20250511T151307Z
UID:4452-1747504800-1747519200@regohva.com
SUMMARY:Festive evening - Multicultural dinner
DESCRIPTION:222nd commemoration of the Haitian flag (May 18\, 1803 – May 8\, 2025)\nEvent 2: Festive evening – Multicultural dinner\n\n\nDate: Saturday\, May 17\, 2025 \n\n\nHour: 18h00 \n\n\nLocation: Welland Sacré-Cœur parish hall72 Empire Street\, Welland\, ON L3B2L4 \n\n\nObjective: Promote the exchange of arts and cultures. \n\n\nOrganized by : Regohva \n\n\nContact : 289-321-1906 \n\n\nEmail : naromieazar@yahoo.fr | organisationregohva@gmail.com \n\n\nSite web : www.regohva.com
URL:https://regohva.com/en/event/soiree-festive-souper-multiculturel/
LOCATION:Salle paroissiale de la paroisse du Sacré-Cœur de Welland         72\, rue Empire\, Welland\, ON L3B2L4\, 72\, rue Empire\,\, Welland\, ON\, L3B2L4\, Canada
CATEGORIES:Events
END:VEVENT
BEGIN:VEVENT
DTSTART;TZID=America/Toronto:20250517T080000
DTEND;TZID=America/Toronto:20250517T170000
DTSTAMP:20260421T093439
CREATED:20250327T031230Z
LAST-MODIFIED:20250327T031230Z
UID:4417-1747468800-1747501200@regohva.com
SUMMARY:Multicultural evening on the occasion of Flag Day
DESCRIPTION:
URL:https://regohva.com/en/event/multicultural-evening-on-the-occasion-of-flag-day-2/
CATEGORIES:Events
END:VEVENT
BEGIN:VEVENT
DTSTART;TZID=America/Toronto:20250516T100000
DTEND;TZID=America/Toronto:20250516T170000
DTSTAMP:20260421T093439
CREATED:20250511T003346Z
LAST-MODIFIED:20250511T003346Z
UID:4448-1747389600-1747414800@regohva.com
SUMMARY:222nd anniversary - Raising the Haitian flag
DESCRIPTION:222nd commemoration of the Haitian flag (May 18\, 1803 – May 8\, 2025)\nEvent 1: Raising of the Haitian flag – 222nd anniversary\n\n\nDate: Friday\, May 16\, 2025 \n\nObjective: To honor Haitian-Canadian heritage and celebrate unity in diversity.\n\nOrganized by : Regohva \n\n\nContact : 289-321-1906 \n\n\nEmail : naromieazar@yahoo.fr | organisationregohva@gmail.com
URL:https://regohva.com/en/event/222nd-anniversary-raising-the-haitian-flag/
LOCATION:Salle paroissiale de la paroisse du Sacré-Cœur de Welland         72\, rue Empire\, Welland\, ON L3B2L4\, 72\, rue Empire\,\, Welland\, ON\, L3B2L4\, Canada
CATEGORIES:Events
END:VEVENT
BEGIN:VEVENT
DTSTART;TZID=America/Toronto:20250516T080000
DTEND;TZID=America/Toronto:20250516T170000
DTSTAMP:20260421T093439
CREATED:20250305T045536Z
LAST-MODIFIED:20250308T003336Z
UID:4161-1747382400-1747414800@regohva.com
SUMMARY:Celebrating the Haitian flag
DESCRIPTION:Célébration du drapeau Haïti par un lever du drapeau a Welland le : 16 mai 2025
URL:https://regohva.com/en/event/celebrating-the-haitian-flag/
END:VEVENT
BEGIN:VEVENT
DTSTART;TZID=America/Toronto:20250221T170000
DTEND;TZID=America/Toronto:20250221T170000
DTSTAMP:20260421T093439
CREATED:20250305T045658Z
LAST-MODIFIED:20250308T005543Z
UID:4163-1740157200-1740157200@regohva.com
SUMMARY:Annual General Meeting (AGM)
DESCRIPTION:Assemblée Générale Annuelle (AGA) : 21 Février 2025 
URL:https://regohva.com/en/event/annual-general-meeting-agm/
END:VEVENT
BEGIN:VEVENT
DTSTART;TZID=UTC:20210819T180000
DTEND;TZID=UTC:20210819T200000
DTSTAMP:20260421T093439
CREATED:20210825T033604Z
LAST-MODIFIED:20250125T213614Z
UID:3748-1629396000-1629403200@regohva.com
SUMMARY:Humanitarian situation in Haiti 🇭🇹 Overview of needs and challenges
DESCRIPTION:
URL:https://regohva.com/en/event/humanitarian-situation-in-haiti-%f0%9f%87%ad%f0%9f%87%b9-overview-of-needs-and-challenges/
LOCATION:ZOOM\, ZOOM
END:VEVENT
BEGIN:VEVENT
DTSTART;TZID=UTC:20210814T100000
DTEND;TZID=UTC:20210814T180000
DTSTAMP:20260421T093439
CREATED:20210825T034727Z
LAST-MODIFIED:20250308T045641Z
UID:3749-1628935200-1628964000@regohva.com
SUMMARY:FAMILY PICNIC
DESCRIPTION:
URL:https://regohva.com/en/event/family-picnic/
LOCATION:MEMORIAL PARK WELLAN\, Memorial Park Dr\, Welland\, ON\, Canada
ATTACH;FMTTYPE=image/jpeg:https://regohva.com/wp-content/uploads/2021/08/activite-3.jpeg
END:VEVENT
BEGIN:VEVENT
DTSTART;TZID=America/Toronto:20210701T100000
DTEND;TZID=America/Toronto:20210701T180000
DTSTAMP:20260421T093439
CREATED:20250125T205557Z
LAST-MODIFIED:20250308T002849Z
UID:3966-1625133600-1625162400@regohva.com
SUMMARY:Canada Day
DESCRIPTION:
URL:https://regohva.com/en/event/canada-day/
LOCATION:Memorial Parc-Welland\, Ontario
END:VEVENT
END:VCALENDAR